BEGIN:VCALENDAR
VERSION:2.0
PRODID:-//Tukios.com/
BEGIN:VEVENT
UID:2162a4f1-2921-4531-b4c0-acfa84672edf@www.sbentleyfh.com
DTSTAMP:20260421T014440Z
DTSTART:20260427T220000Z
DTEND:20260428T000000Z
SUMMARY:Visitation
DESCRIPTION:
URL:https://www.sbentleyfh.com/obituaries/randy-sizemore
LOCATION:Swick Bentley Funeral Home 1104 Harrisonville Ave  New Boston OH 
	45662
GEO:38.7599;-82.933
END:VEVENT
END:VCALENDAR