BEGIN:VCALENDAR
VERSION:2.0
PRODID:-//Tukios.com/
BEGIN:VEVENT
UID:86ca156a-8cb6-4c1f-99ef-54168b04c79f@www.sbentleyfh.com
DTSTAMP:20260421T015115Z
DTSTART:20260428T180000Z
DTEND:20260428T190000Z
SUMMARY:Funeral Service
DESCRIPTION:
URL:https://www.sbentleyfh.com/obituaries/randy-sizemore
LOCATION:Swick Bentley Funeral Home 1104 Harrisonville Ave  New Boston OH 
	45662
GEO:38.7599;-82.933
END:VEVENT
END:VCALENDAR